BEGIN:VCALENDAR
VERSION:2.0
PRODID:-//Industry - ECPv6.9.1//NONSGML v1.0//EN
CALSCALE:GREGORIAN
METHOD:PUBLISH
X-WR-CALNAME:Industry
X-ORIGINAL-URL:https://industry-innovations.eu
X-WR-CALDESC:Veranstaltungen für Industry
REFRESH-INTERVAL;VALUE=DURATION:PT1H
X-Robots-Tag:noindex
X-PUBLISHED-TTL:PT1H
BEGIN:VTIMEZONE
TZID:Europe/Berlin
BEGIN:DAYLIGHT
TZOFFSETFROM:+0100
TZOFFSETTO:+0200
TZNAME:CEST
DTSTART:20250330T010000
END:DAYLIGHT
BEGIN:STANDARD
TZOFFSETFROM:+0200
TZOFFSETTO:+0100
TZNAME:CET
DTSTART:20251026T010000
END:STANDARD
END:VTIMEZONE
BEGIN:VEVENT
DTSTART;TZID=Europe/Berlin:20251105T090000
DTEND;TZID=Europe/Berlin:20251105T180000
DTSTAMP:20260425T172718
CREATED:20250214T114324Z
LAST-MODIFIED:20250214T114913Z
UID:8536-1762333200-1762365600@industry-innovations.eu
SUMMARY:Industry Summit 2025
DESCRIPTION:Agenda\n					\n					\n				\n								\n				\n				\n				\n					\n	Industry Summit 2025				\n				\n				\n				\n					\n	\n	Datum und Uhrzeit:	\n			05.11.2025\n\n	\n\n	  |  \n\n\n09:00\n\n		\n\n\n\n	\n	  -  \n\n18:00\n\n\n\n	\n				\n				\n				\n				\n									BASF Coatings GmbH\, Münster 								\n				\n					\n		\n					\n		\n					\n		\n					\n		\n				\n						\n					\n			\n						\n				\n									Innovation und Nachhaltigkeit in Produktion und LogistikDer Industry Summit Germany am 5. November 2025 bei BASF Coatings in Münster\, ist ein zentraler Treffpunkt für Führungskräfte\, Innovatoren und Nachhaltigkeitsexperten aus der Industrie. Die Veranstaltung bietet den Teilnehmenden spannende Einblicke in die neuesten Entwicklungen rund um Produktion\, Logistik und industrielle Nachhaltigkeit. Freuen Sie sich auf inspirierende Innovationen und tiefgehende Diskussionen\, die entscheidende Impulse für diese Kernbereiche der Industrie liefern. Ob Sie sich für digitale Zwillinge\, nachhaltige Produktionsprozesse oder die Automatisierung der Logistik interessieren – der Industry Summit eröffnet Ihnen Möglichkeiten\, aktuelle Trends zu verstehen und wertvolle Perspektiven zu gewinnen. 								\n				\n				\n				\n							\n						\n				\n				\n						\n					\n			\n						\n				\n					\n	Industry Summit 2025				\n				\n				\n				\n									Online-Session\, Datum und Uhrzeit: 								\n				\n				\n				\n					\n		\n			05.11.2025\n\n	\n\n	  |  \n\n\n09:00\n\n		\n\n\n\n	\n	  -  \n\n18:00\n\n\n\n	\n				\n				\n					\n		\n					\n		\n				\n						\n					\n			\n						\n				\n									\n					\n						\n									Agenda & Anmeldung\n					\n					\n				\n								\n				\n					\n		\n				\n			\n						\n				\n									\n					\n						\n									Kontakt\n					\n					\n				\n								\n				\n					\n		\n				\n			\n						\n				\n					\n	\n		\n\n	\n	Zum Kalender hinzufügen	\n		\n	\n\n		\n			\n									\n	Google Kalender\n\n									\n	iCalendar\n\n									\n	Outlook 365\n\n									\n	Outlook Live\n\n							\n		\n\n		\n	\n\n				\n				\n					\n		\n					\n		\n					\n		\n					\n		\n				\n						\n					\n			\n						\n				\n					\n	\n		\n\n				Industry Insights: Innovation und Nachhaltigkeit in Produktion und Logistik	\n\n\n			\n\n				\n				\n					\n		\n					\n		\n				\n							\n							\n					\n			\n						\n				\n					\n	Industry Summit 2025				\n				\n				\n						\n					\n			\n						\n				\n									\n					\n						\n									Anmeldung\n					\n					\n				\n								\n				\n				\n				\n							\n							\n					\n						Linkedin\n											\n				\n							\n					\n						Youtube\n											\n				\n							\n					\n						X-twitter
URL:https://industry-innovations.eu/event/industry-summit-2025/
LOCATION:BASF Coatings GmbH\, Glasuritstraße 1\, 48165 Münster
END:VEVENT
END:VCALENDAR